BEGIN:VCALENDAR
VERSION:2.0
PRODID:-//ChamberMaster//Event Calendar 2.0//EN
METHOD:PUBLISH
X-PUBLISHED-TTL:P3D
REFRESH-INTERVAL:P3D
CALSCALE:GREGORIAN
BEGIN:VEVENT
DTSTART:20140208T200000Z
DTEND:20140208T220000Z
X-MICROSOFT-CDO-ALLDAYEVENT:FALSE
SUMMARY:Tracks\, Trails and Tales
DESCRIPTION:Walk the park trails looking closely at animal tracks\, habitats and other signs "left behind".  Learn to listen with Coyote ears\, move like a Bobcat\, probe like an Armadillo and observe with Hawk eyes. Registration and information: 956-565-3919.
X-ALT-DESC;FMTTYPE=text/html:Walk the park trails looking closely at animal tracks\, habitats and other signs &ldquo\;left behind&quot\;. &nbsp\;Learn to listen with Coyote ears\, move like a Bobcat\, probe like an Armadillo and observe with Hawk eyes. Registration and information: 956-565-3919.<br />\n
LOCATION:Estero Llano Grande State Park 3301 S. International Blvd.
UID:e.1244.5014
SEQUENCE:3
DTSTAMP:20260424T193213Z
URL:https://business.weslaco.com/events/details/tracks-trails-and-tales-02-08-2014-5014
END:VEVENT

END:VCALENDAR
