BEGIN:VCALENDAR
VERSION:2.0
PRODID:-//ChamberMaster//Event Calendar 2.0//EN
METHOD:PUBLISH
X-PUBLISHED-TTL:P3D
REFRESH-INTERVAL:P3D
CALSCALE:GREGORIAN
BEGIN:VEVENT
DTSTART:20161016T190000Z
DTEND:20161016T210000Z
X-MICROSOFT-CDO-ALLDAYEVENT:FALSE
SUMMARY:Tram Tours at Estero Llano Grande
DESCRIPTION:If you have ever wanted to join in on a Nature Walk at Estero\, but limited mobility held you back we have the tour for you!  Animals\, plants\, insects and some natural history will make this a tour you won?t forget. Our new Electric Trams seating is limited for a journey around the diverse habitat of our park.  Call ahead to reserve your spot \n\nIs Sunday is a bad day for you? Call to check our availability for a personal tour on another day for your group.  (5 minimum)   \n\n \n\nCall for more information 956-565-3919 or check out our website at www.worldbirdingcenter.org \n\n3301 S International Blvd Weslaco\, Texas 78596
X-ALT-DESC;FMTTYPE=text/html:<p class="MsoNormal" style="margin: 0in 0in 0pt"><span style="font-family:arial\;"><font size="2">If you have ever wanted to join in on a Nature Walk at Estero\, but limited mobility held you back we have the tour for you!<span>&nbsp\;&nbsp\;</span>Animals\, plants\, insects and some natural history will make this a tour you won?t forget. Our new Electric Trams seating is limited for a journey around the diverse habitat of our park. &nbsp\;Call ahead to reserve your spot </font></span><span style="font-family: arial\, sans-serif\; "><font size="2"><o:p></o:p></font></span></p>\n\n<p class="MsoNormal" style="margin: 0in 0in 0pt"><span style="font-family:arial\;"><font size="2">Is Sunday is a bad day for you? Call to check our availability for a personal tour on another day for your group. &nbsp\;</font><span style="font-size: small\; ">(5 minimum)</span><span style="font-size: small\; ">&nbsp\; &nbsp\;</span></span></p>\n\n<p class="MsoNormal" style="margin: 0in 0in 0pt"><span style="font-family:arial\;"><o:p><font size="2">&nbsp\;</font></o:p></span><span style="font-family: arial\, sans-serif\; "><o:p></o:p></span></p>\n\n<p class="MsoNormal" style="margin: 0in 0in 0pt"><span style="font-family:arial\;"><font size="2">Call for more information 956-565-3919 or check out our website at </font><a href="http://www.worldbirdingcenter.org/"><font size="2">www.worldbirdingcenter.org</font></a><font size="2"> </font></span><span style="font-family: 'times'\, 'serif'"><font size="2"><font face="Times"><o:p></o:p></font></font></span></p>\n\n<p class="MsoNormal" style="margin: 0in 0in 0pt"><span style="font-family:arial\;"><font size="2">3301 S International Blvd Weslaco\, Texas 78596</font></span></p>\n
LOCATION:3301 S International Blvd Weslaco\, Texas 78596
UID:e.1244.1242
SEQUENCE:3
DTSTAMP:20260422T164655Z
URL:https://business.weslaco.com/events/details/tram-tours-at-estero-llano-grande-06-10-2012-1242
END:VEVENT

END:VCALENDAR
