BEGIN:VCALENDAR
VERSION:2.0
PRODID:-//ChamberMaster//Event Calendar 2.0//EN
METHOD:PUBLISH
X-PUBLISHED-TTL:P3D
REFRESH-INTERVAL:P3D
CALSCALE:GREGORIAN
BEGIN:VEVENT
DTSTART:20191215T200000Z
DTEND:20191215T220000Z
X-MICROSOFT-CDO-ALLDAYEVENT:FALSE
SUMMARY:Tram Tours at Estero Llano Grande
DESCRIPTION:Join us on a narrated ranger-driven\, two-hour tour of the park in a quiet electric tram. Reservations required.\n\n\n\nEspecially for those that are less mobile (but open to everyone!)\, we offer the opportunity to tour the park in electric open Bird Buses. Estero Llano Grande was designed as a walking park\, but hiking the trails has often been a hardship or impossible for some park guests. Now you can ride to most areas to see the birds\, butterflies\, dragonflies\, alligators\, frogs (and maybe even a bobcat) as well as the lakes\, and the wonderful array of trees and shrubs that occur in the park.\n\n\n\nRegular park admission applies - there is no extra charge for the Bird Bus tours. Reservations required.
X-ALT-DESC;FMTTYPE=text/html:<span>Join us on a narrated ranger-driven\, two-hour tour of the park in a quiet electric tram. Reservations required.<br>\n<br>\nEspecially for those that are less mobile (but open to everyone!)\, we offer the opportunity to tour the park in electric open Bird Buses. Estero Llano Grande was designed as a walking park\, but hiking the trails has often been a hardship or impossible for some park guests. Now you can ride to most areas to see the birds\, butterflies\, dragonflies\, alligators\, frogs (and maybe even a bobcat) as well as the lakes\, and the wonderful array of trees and shrubs that occur in the park.<br>\n<br>\nRegular park admission applies - there is no extra charge for the Bird Bus tours. Reservations required.</span>
LOCATION:Estero Llano Grande State Park 154 Lakeview Dr Ste A\, Weslaco\, Texas 78596
UID:e.1244.18981
SEQUENCE:3
DTSTAMP:20260419T234414Z
URL:https://business.weslaco.com/events/details/tram-tours-at-estero-llano-grande-12-15-2019-18981
END:VEVENT

END:VCALENDAR
