BEGIN:VCALENDAR
VERSION:2.0
PRODID:-//ChamberMaster//Event Calendar 2.0//EN
METHOD:PUBLISH
X-PUBLISHED-TTL:P3D
REFRESH-INTERVAL:P3D
CALSCALE:GREGORIAN
BEGIN:VEVENT
DTSTART:20181215T160000Z
DTEND:20181215T180000Z
X-MICROSOFT-CDO-ALLDAYEVENT:FALSE
SUMMARY:Tree of Remembrance and Art Contest
DESCRIPTION:
X-ALT-DESC;FMTTYPE=text/html:
LOCATION:Highland Memorial Park & Funeral Home 6705 N FM 88 Weslaco\, TX
UID:e.1244.17033
SEQUENCE:3
DTSTAMP:20260420T194654Z
URL:https://business.weslaco.com/events/details/tree-of-remembrance-and-art-contest-17033
END:VEVENT

END:VCALENDAR
