BEGIN:VCALENDAR
VERSION:2.0
PRODID:-//ChamberMaster//Event Calendar 2.0//EN
METHOD:PUBLISH
X-PUBLISHED-TTL:P3D
REFRESH-INTERVAL:P3D
CALSCALE:GREGORIAN
BEGIN:VEVENT
DTSTART:20181016T200000Z
DTEND:20181016T220000Z
X-MICROSOFT-CDO-ALLDAYEVENT:FALSE
SUMMARY:Tropical Texas Behavioral Health Ribbon Cutting and Grand Opening
DESCRIPTION:Ribbon Cutting Scheduled for 4:30 pm.
X-ALT-DESC;FMTTYPE=text/html:Ribbon Cutting Scheduled for 4:30 pm.
LOCATION:2215 W. Business 83 Weslaco\, TX
UID:e.1244.16988
SEQUENCE:3
DTSTAMP:20260421T005837Z
URL:https://business.weslaco.com/events/details/tropical-texas-behavioral-health-ribbon-cutting-and-grand-opening-16988
END:VEVENT

END:VCALENDAR
