BEGIN:VCALENDAR
VERSION:2.0
PRODID:-//ChamberMaster//Event Calendar 2.0//EN
METHOD:PUBLISH
X-PUBLISHED-TTL:P3D
REFRESH-INTERVAL:P3D
CALSCALE:GREGORIAN
BEGIN:VEVENT
DTSTART:20191031T233000Z
DTEND:20191101T013000Z
X-MICROSOFT-CDO-ALLDAYEVENT:FALSE
SUMMARY:Trunk or Treat at Teddy's Barbecue
DESCRIPTION:They'll have food specials running through the night and a few friends passing out treats in the parking lot. Stop by for a night of food\, fun\, and a spooky good time.
X-ALT-DESC;FMTTYPE=text/html:<span style="color:#1D2129\;"><span style="font-family:arial\,sans-serif\;"><span style="font-size:10.5pt\;">They&#39\;ll have food specials running through the night and a few friends passing out treats in the parking lot. Stop by for a night of food\, fun\, and a spooky good time.&nbsp\;</span></span></span>
LOCATION:2807 N. Texas Blvd. Weslaco
UID:e.1244.18811
SEQUENCE:3
DTSTAMP:20260420T044226Z
URL:https://business.weslaco.com/events/details/trunk-or-treat-at-teddy-s-barbecue-18811
END:VEVENT

END:VCALENDAR
