BEGIN:VCALENDAR
VERSION:2.0
PRODID:-//ChamberMaster//Event Calendar 2.0//EN
METHOD:PUBLISH
X-PUBLISHED-TTL:P3D
REFRESH-INTERVAL:P3D
CALSCALE:GREGORIAN
BEGIN:VEVENT
DTSTART:20171111T160000Z
DTEND:20171111T173000Z
X-MICROSOFT-CDO-ALLDAYEVENT:FALSE
SUMMARY:Turkey Tales Children's Painting Class at Frontera Audubon
DESCRIPTION:Animals and nature processes are made of color and filled with color. Sometimes these are even related. What does a Sunrise and a Turkey Tail have in common? We are preparing for a season of thanksgiving. Come paint the turkey tail and sunrise with us and get ready for a colorful Thanksgiving.\n\nAges 6-10
X-ALT-DESC;FMTTYPE=text/html:<span class="_4n-j fsl">Animals and nature processes are made of color and filled with color. Sometimes these are even related. What does a Sunrise and a Turkey Tail have in common? We are preparing for a season of thanksgiving. Come paint the turkey tail and sunrise with us and get ready for a colorful Thanksgiving.<br />\nAges 6-10</span><br />\n&nbsp\;
LOCATION:1101 S. Texas Weslaco\, TX
UID:e.1244.14438
SEQUENCE:3
DTSTAMP:20260421T174154Z
URL:https://business.weslaco.com/events/details/turkey-tales-children-s-painting-class-at-frontera-audubon-14438
END:VEVENT

END:VCALENDAR
