BEGIN:VCALENDAR
VERSION:2.0
PRODID:-//ChamberMaster//Event Calendar 2.0//EN
METHOD:PUBLISH
X-PUBLISHED-TTL:P3D
REFRESH-INTERVAL:P3D
CALSCALE:GREGORIAN
BEGIN:VEVENT
DTSTART:20131121T140000Z
DTEND:20131121T160000Z
X-MICROSOFT-CDO-ALLDAYEVENT:FALSE
SUMMARY:Turkey Trot At The Valley Nature Center
DESCRIPTION:Come enjoy a nice walk in our park and a light breakfast all for just $.100 per person!!
X-ALT-DESC;FMTTYPE=text/html:Come enjoy a nice walk in our park and a light breakfast all for just $.100 per person!!
LOCATION:301 South Border Ave. Weslaco Texas 78596
UID:e.1244.4801
SEQUENCE:3
DTSTAMP:20260425T024819Z
URL:https://business.weslaco.com/events/details/turkey-trot-at-the-valley-nature-center-11-21-2013-4801
END:VEVENT

END:VCALENDAR
