BEGIN:VCALENDAR
VERSION:2.0
PRODID:-//ChamberMaster//Event Calendar 2.0//EN
METHOD:PUBLISH
X-PUBLISHED-TTL:P3D
REFRESH-INTERVAL:P3D
CALSCALE:GREGORIAN
BEGIN:VEVENT
DTSTART:20170318T150000Z
DTEND:20170318T163000Z
X-MICROSOFT-CDO-ALLDAYEVENT:FALSE
SUMMARY:Two Friends of Mine: Children's Painting Class at Frontera Audubon
DESCRIPTION:Two Friends of Mine pictures the beautiful relationship that exists between the flower and the butterfly. Both are heralds of spring which is almost here. From egg and seed to newly released butterfly and flower\, this color story shows their development and their friendship. After seeing the story\, the children will paint two paintings: the plant between air and water and the butterfly and flower exercise.\n\n\n\nAges 6-10
X-ALT-DESC;FMTTYPE=text/html:<span class="_4n-j _3cht fsl" data-testid="event-permalink-details">Two Friends of Mine pictures the beautiful relationship that exists between the flower and the butterfly. Both are heralds of spring which is almost here. From egg and seed to newly released butterfly and flower\, this color story shows their development and their friendship. After seeing the story\, the children will paint two paintings: the plant between air and water and the butterfly and flower exercise.<br />\n<br />\nAges 6-10</span><br />\n&nbsp\;
LOCATION:1101 S. Texas Weslaco
UID:e.1244.11946
SEQUENCE:3
DTSTAMP:20260422T071646Z
URL:https://business.weslaco.com/events/details/two-friends-of-mine-children-s-painting-class-at-frontera-audubon-11946
END:VEVENT

END:VCALENDAR
