BEGIN:VCALENDAR
VERSION:2.0
PRODID:-//ChamberMaster//Event Calendar 2.0//EN
METHOD:PUBLISH
X-PUBLISHED-TTL:P3D
REFRESH-INTERVAL:P3D
CALSCALE:GREGORIAN
BEGIN:VEVENT
DTSTART:20130618T213000Z
DTEND:20130618T230000Z
X-MICROSOFT-CDO-ALLDAYEVENT:FALSE
SUMMARY:Understanding Social Security Seminar
DESCRIPTION:Get all the details to help you bring the bigger picture of Social Security and your retirement into focus.  You'll learn key facts about the Social Security program\, including: \n\n  How benefits are calculated\n\n	  Full retirement age and choosing the right time to file\n\n	  Receiving benefits while working\n\n	  Provisional income and tax implications\n\n	  Options for spouses and ex-spouses\n\n	\n\n	Presented by Protective and Edward Jones Investments
X-ALT-DESC;FMTTYPE=text/html:<span style="font-size:12px\;"><span style="color: black\;"><span style="font-family: calibri\;">Get all the details to help you bring the bigger picture of Social Security and your retirement into focus.&nbsp\; You&rsquo\;ll learn key facts about the Social Security program\, including:&nbsp\;</span></span><br />\n<span style="font-family: arial\;">&bull\;&nbsp\;</span><span style="color: black\;"><span style="font-family: calibri\;">How benefits are calculated</span></span></span>\n<div style="margin-top:0pt\;margin-bottom:0pt\;margin-left:0in\;direction:ltr\;unicode-bidi:embed\;word-break:normal\;">\n	<span style="font-size:12px\;"><span style="font-family: arial\;">&bull\;</span><span style="color: black\;"><span style="font-family: calibri\;"> Full retirement age and choosing the right time to file</span></span></span></div>\n<div style="margin-top:0pt\;margin-bottom:0pt\;margin-left:0in\;direction:ltr\;unicode-bidi:embed\;word-break:normal\;">\n	<span style="font-size:12px\;"><span style="font-family: arial\;">&bull\;</span><span style="color: black\;"><span style="font-family: calibri\;"> Receiving benefits while working</span></span></span></div>\n<div style="margin-top:0pt\;margin-bottom:0pt\;margin-left:0in\;direction:ltr\;unicode-bidi:embed\;word-break:normal\;">\n	<span style="font-size:12px\;"><span style="font-family: arial\;">&bull\;</span><span style="color: black\;"><span style="font-family: calibri\;"> Provisional income and tax implications</span></span></span></div>\n<div style="margin-top:0pt\;margin-bottom:0pt\;margin-left:0in\;direction:ltr\;unicode-bidi:embed\;word-break:normal\;">\n	<span style="font-size:12px\;"><span style="font-family: arial\;">&bull\;</span><span style="color: black\;"><span style="font-family: calibri\;"> Options for spouses and ex-spouses<br />\n	<br />\n	Presented by Protective and Edward Jones Investments</span></span></span></div>\n
LOCATION:STC Mid Valley Auditorium 400 N. Border Weslaco
UID:e.1244.4711
SEQUENCE:3
DTSTAMP:20260421T183750Z
URL:https://business.weslaco.com/events/details/understanding-social-security-seminar-06-18-2013-4711
END:VEVENT

END:VCALENDAR
