BEGIN:VCALENDAR
VERSION:2.0
PRODID:-//ChamberMaster//Event Calendar 2.0//EN
METHOD:PUBLISH
X-PUBLISHED-TTL:P3D
REFRESH-INTERVAL:P3D
CALSCALE:GREGORIAN
BEGIN:VEVENT
DTSTART:20150916T170000Z
DTEND:20150916T180000Z
X-MICROSOFT-CDO-ALLDAYEVENT:FALSE
SUMMARY:Unemployment Tax Seminar
DESCRIPTION:Payroll Tax Classifications for employers\, presented by Rene Garza\, Accounts Examiner for the Texas Workforce Commission. Wed\, Sept. 16 from 12 pm to 1 pm. Lunch will be provided. Fee is $5 for members\, $10 for non-members. Call 968-2102 to RSVP!
X-ALT-DESC;FMTTYPE=text/html:<span style="color: rgb(20\, 24\, 35)\; font-family: helvetica\, arial\, sans-serif\; font-size: 14px\; line-height: 19.32px\; background-color: rgb(255\, 255\, 255)\;">Payroll Tax Classifications for employers\, presented by Rene Garza\, Accounts Examiner for the Texas Workforce Commission. Wed\, Sept. 16 from 12 pm to 1 pm. Lunch will be provided. Fee is $5 for members\, $10 for non-members. Call 968-2102 to RSVP!</span>
LOCATION:Weslaco Business Visitor & Event Center 275 S. Kansas
UID:e.1244.8729
SEQUENCE:3
DTSTAMP:20260423T113117Z
URL:https://business.weslaco.com/events/details/unemployment-tax-seminar-09-16-2015-8729
END:VEVENT

END:VCALENDAR
