BEGIN:VCALENDAR
VERSION:2.0
PRODID:-//ChamberMaster//Event Calendar 2.0//EN
METHOD:PUBLISH
X-PUBLISHED-TTL:P3D
REFRESH-INTERVAL:P3D
CALSCALE:GREGORIAN
BEGIN:VEVENT
DTSTART:20180123T210000Z
DTEND:20180124T000000Z
X-MICROSOFT-CDO-ALLDAYEVENT:FALSE
SUMMARY:Update Your Headshot Event
DESCRIPTION:Irene Thompson Photography will be at the Weslaco Chamber of Commerce to update your professional head shot.\n\n\n\n  15 minute sessions\n\n\n\n  Background shown in samples\n\n\n\n  Final shot will be emailed in jpeg format\n\n\n\n  Fee includes photo touchups
X-ALT-DESC;FMTTYPE=text/html:Irene Thompson Photography will be at the Weslaco Chamber of Commerce to update your professional head shot.<br />\n<br />\n&bull\; 15 minute sessions<br />\n<br />\n&bull\; Background shown in samples<br />\n<br />\n&bull\; Final shot will be emailed in jpeg format<br />\n<br />\n&bull\; Fee includes photo touchups
LOCATION:Business Visitor & Event Center 275 S. Kansas
UID:e.1244.14472
SEQUENCE:3
DTSTAMP:20260421T141912Z
URL:https://business.weslaco.com/events/details/update-your-headshot-event-14472
END:VEVENT

END:VCALENDAR
