BEGIN:VCALENDAR
VERSION:2.0
PRODID:-//ChamberMaster//Event Calendar 2.0//EN
METHOD:PUBLISH
X-PUBLISHED-TTL:P3D
REFRESH-INTERVAL:P3D
CALSCALE:GREGORIAN
BEGIN:VEVENT
DTSTART:20200626T000000Z
DTEND:20200626T010000Z
X-MICROSOFT-CDO-ALLDAYEVENT:FALSE
SUMMARY:UTRGV/Knapp Residency Program
DESCRIPTION:Six physician residents will graduate from the UTRGV / Knapp Family Practice Residency Program\, which includes a spacious clinic in Mercedes and hospital rotations at Knapp Medical Center in Weslaco.   \n\nMaking history as the inaugural class of the program are Dr. Eddy Berges\; Dr. Carolina Gomez de Ziegler\, Dr. Diego Moreno\, Dr. Marita del Pilar Sanchez Sierra Marino\, Dr. Miguel A. Sanchez Rivas\, and Dr. Eliana Costantino Burgazzi.
X-ALT-DESC;FMTTYPE=text/html:<span style="font-family:arial\,sans-serif\;"><span style="font-size:12.0pt\;">Six physician residents will graduate from the UTRGV / Knapp Family Practice Residency Program\, which includes a spacious clinic in Mercedes and hospital rotations at Knapp Medical Center in Weslaco.&nbsp\;&nbsp\; </span></span><br />\n<span style="font-family:arial\,sans-serif\;"><span style="font-size:12.0pt\;">Making history as the inaugural class of the program are Dr. Eddy Berges\; Dr. Carolina Gomez de Ziegler\, Dr. Diego Moreno\, Dr. Marita del Pilar Sanchez Sierra Marino\, Dr. Miguel A. Sanchez Rivas\, and Dr. Eliana Costantino Burgazzi.&nbsp\; </span></span>
LOCATION:https://utrgv.zoom.us/j/97218063786
UID:e.1244.19428
SEQUENCE:3
DTSTAMP:20260419T141033Z
URL:https://business.weslaco.com/events/details/utrgv-knapp-residency-program-19428
END:VEVENT

END:VCALENDAR
