BEGIN:VCALENDAR
VERSION:2.0
PRODID:-//ChamberMaster//Event Calendar 2.0//EN
METHOD:PUBLISH
X-PUBLISHED-TTL:P3D
REFRESH-INTERVAL:P3D
CALSCALE:GREGORIAN
BEGIN:VEVENT
DTSTART:20200115T220000Z
DTEND:20200116T000000Z
X-MICROSOFT-CDO-ALLDAYEVENT:FALSE
SUMMARY:Valley Baptist Micro-Hospital Grand Opening
DESCRIPTION:Join us as we celebrate the opening of the Rio Grande Valley's FIRST micro-hospital!
X-ALT-DESC;FMTTYPE=text/html:Join us as we celebrate the opening of the Rio Grande Valley&#39\;s FIRST micro-hospital!
LOCATION:1021 W. Interstate 2 Weslaco
UID:e.1244.19288
SEQUENCE:3
DTSTAMP:20260419T234159Z
URL:https://business.weslaco.com/events/details/valley-baptist-micro-hospital-grand-opening-19288
END:VEVENT

END:VCALENDAR
