BEGIN:VCALENDAR
VERSION:2.0
PRODID:-//ChamberMaster//Event Calendar 2.0//EN
METHOD:PUBLISH
X-PUBLISHED-TTL:P3D
REFRESH-INTERVAL:P3D
CALSCALE:GREGORIAN
BEGIN:VEVENT
DTSTART:20131020T140000Z
DTEND:20131020T200000Z
X-MICROSOFT-CDO-ALLDAYEVENT:FALSE
SUMMARY:Valley Grande Adventist Health Expo
DESCRIPTION:Free health screenings including blood pressure\, body mass index\, glucose testing\, peak flow and skin screenings.  Also enjoy massages and food and refreshments.
X-ALT-DESC;FMTTYPE=text/html:Free health screenings including blood pressure\, body mass index\, glucose testing\, peak flow and skin screenings. &nbsp\;Also enjoy massages and food and refreshments.
LOCATION:Valley Grande Adventist Academy Widmark Auditorium 1000 S. Bridge Ave.
UID:e.1244.4779
SEQUENCE:3
DTSTAMP:20260425T023728Z
URL:https://business.weslaco.com/events/details/valley-grande-adventist-health-expo-10-20-2013-4779
END:VEVENT

END:VCALENDAR
