BEGIN:VCALENDAR
VERSION:2.0
PRODID:-//ChamberMaster//Event Calendar 2.0//EN
METHOD:PUBLISH
X-PUBLISHED-TTL:P3D
REFRESH-INTERVAL:P3D
CALSCALE:GREGORIAN
BEGIN:VEVENT
DTSTART:20171026T140000Z
DTEND:20171026T160000Z
X-MICROSOFT-CDO-ALLDAYEVENT:FALSE
SUMMARY:Valley Grande Manor 4th Annual Walk-a-Thon for Breast Cancer Awareness
DESCRIPTION:Walk will begin at the front parking lot. The event will begin at 9 a.m.\, the Walk-a-Thon walk will begin at 9:30 a.m.\n\n \n\nThis event is free to the public and to those who want to participate in the walk with us. Please wear pink and show your support!\n\n \n\nThere will be hot dogs and refreshments served directly after the walk at the Valley Grande Manor Parking Lot.\n\n \n\nPlease dress appropriately in comfortable clothing and good walking shoes.  Remember sunscreen and a hat.  Beverages will be provided after the walk.  All participants are welcome.  Course is handicap accessible.
X-ALT-DESC;FMTTYPE=text/html:Walk will begin at the front parking lot. The event will begin at 9 a.m.\, the Walk-a-Thon walk will begin at 9:30 a.m.<br />\n&nbsp\;<br />\nThis event is free to the public and to those who want to participate in the walk with us. Please wear pink and show your support!<br />\n&nbsp\;<br />\nThere will be hot dogs and refreshments served directly after the walk at the Valley Grande Manor Parking Lot.<br />\n&nbsp\;<br />\n<em>Please dress appropriately in comfortable clothing and good walking shoes.&nbsp\; Remember sunscreen and a hat.&nbsp\; Beverages will be provided after the walk.&nbsp\; All participants are welcome.&nbsp\; Course is handicap accessible.</em><br />\n&nbsp\;
LOCATION:Valley Grande Manor 1212 S. Bridge Ave. Weslaco\, TX
UID:e.1244.14423
SEQUENCE:3
DTSTAMP:20260421T190542Z
URL:https://business.weslaco.com/events/details/valley-grande-manor-4th-annual-walk-a-thon-for-breast-cancer-awareness-14423
END:VEVENT

END:VCALENDAR
