BEGIN:VCALENDAR
VERSION:2.0
PRODID:-//ChamberMaster//Event Calendar 2.0//EN
METHOD:PUBLISH
X-PUBLISHED-TTL:P3D
REFRESH-INTERVAL:P3D
CALSCALE:GREGORIAN
BEGIN:VEVENT
DTSTART:20131022T230000Z
DTEND:20131023T000000Z
X-MICROSOFT-CDO-ALLDAYEVENT:FALSE
SUMMARY:Valley Health Seminar
DESCRIPTION:"What you need to know about hypertension" by Dr. Matt Loewen.  Hypertension (high blood pressure) is often called the "silent killer" because it presents no symptoms yet can be very dangerous if left untreated.  Find out how to monitor and control your blood pressure at this FREE seminar presented by Dr. Loewen.  Door prizes will be given away and light refreshments will be served.
X-ALT-DESC;FMTTYPE=text/html:&quot\;What you need to know about hypertension&quot\; by Dr. Matt Loewen.&nbsp\; Hypertension (high blood pressure) is often called the &quot\;silent killer&quot\; because it presents no symptoms yet can be very dangerous if left untreated.&nbsp\; Find out how to monitor and control your blood pressure at this FREE seminar presented by Dr. Loewen.&nbsp\; Door prizes will be given away and light refreshments will be served. &nbsp\;
LOCATION:Knapp Conference Center\, Rooms 3 & 4\, 1401 E. Eighth Street\, Weslaco TX
UID:e.1244.4787
SEQUENCE:3
DTSTAMP:20260425T023301Z
URL:https://business.weslaco.com/events/details/valley-health-seminar-10-22-2013-4787
END:VEVENT

END:VCALENDAR
