BEGIN:VCALENDAR
VERSION:2.0
PRODID:-//ChamberMaster//Event Calendar 2.0//EN
METHOD:PUBLISH
X-PUBLISHED-TTL:P3D
REFRESH-INTERVAL:P3D
CALSCALE:GREGORIAN
BEGIN:VEVENT
DTSTART;VALUE=DATE:20160908
DTEND;VALUE=DATE:20161012
TRANSP:TRANSPARENT
X-MICROSOFT-CDO-ALLDAYEVENT:TRUE
SUMMARY:Valley Nature Center and Weslaco Lions Club Story Walk
DESCRIPTION:The Weslaco Lions Club and Valley Nature Center are proud to announce their first StoryWalk  event.\n\n\n\nThe StoryWalk  will feature the book "If You Give a Pig a Pancake" written by Laura Numeroff and illustrated by Felicia Bond. Pages from the book will be placed along the walking trail at the Valley Nature Center to encourage families to get out into nature and read. There will also be a drawing to win books and other prizes!\n\n\n\nThe Valley Nature Center is located at 301 S. Border Ave. in Weslaco. StoryWalk  will be available during regular operating hours from September 8 to October 11\, 2016. For more information\, call (956) 969-2475 or visit valleynaturecenter.org. Admission to the Valley Nature Center is $2 for children\, $5 for adults\, and $3 for seniors. \n\n\n\nThe Weslaco Lions Club is sponsoring the StoryWalk  project as part of their year-long Reading Action Program committed to increasing child literacy. The Weslaco Lions Club meets every Tuesday at noon at Pimiento's Restaurant in Weslaco. If you are interested in assisting with the project or in becoming a member\, please contact weslacolions@gmail.com. \n\n\n\nThe StoryWalk  Project was created by Anne Ferguson of Montpelier\, VT and developed in collaboration with the Vermont Bicycle & Pedestrian Coalition (VBPC) and the Kellogg Hubbard Library.
X-ALT-DESC;FMTTYPE=text/html:<span style="color: rgb(75\, 79\, 86)\; font-family: helvetica\, arial\, sans-serif\; font-size: 14px\; line-height: 18.76px\; background-color: rgb(255\, 255\, 255)\;">The Weslaco Lions Club and Valley Nature Center are proud to announce their first StoryWalk&trade\; event.</span><br style="color: rgb(75\, 79\, 86)\; font-family: helvetica\, arial\, sans-serif\; font-size: 14px\; line-height: 18.76px\; background-color: rgb(255\, 255\, 255)\;" />\n<br style="color: rgb(75\, 79\, 86)\; font-family: helvetica\, arial\, sans-serif\; font-size: 14px\; line-height: 18.76px\; background-color: rgb(255\, 255\, 255)\;" />\n<span style="color: rgb(75\, 79\, 86)\; font-family: helvetica\, arial\, sans-serif\; font-size: 14px\; line-height: 18.76px\; background-color: rgb(255\, 255\, 255)\;">The StoryWalk&trade\; will feature the book &quot\;If You Give a Pig a Pancake&quot\; written by Laura Numeroff and illustrated by Felicia Bond. Pages from the book will be placed along the walking trail at the Valley Nature Center to encourage families to get out into nature and read. There will also be a drawing to win books and other prizes!</span><br style="color: rgb(75\, 79\, 86)\; font-family: helvetica\, arial\, sans-serif\; font-size: 14px\; line-height: 18.76px\; background-color: rgb(255\, 255\, 255)\;" />\n<br style="color: rgb(75\, 79\, 86)\; font-family: helvetica\, arial\, sans-serif\; font-size: 14px\; line-height: 18.76px\; background-color: rgb(255\, 255\, 255)\;" />\n<span style="color: rgb(75\, 79\, 86)\; font-family: helvetica\, arial\, sans-serif\; font-size: 14px\; line-height: 18.76px\; background-color: rgb(255\, 255\, 255)\;">The Valley Nature Center is located at 301 S. Border Ave. in Weslaco. StoryWalk&trade\; will be available during regular operating hours from September 8 to October 11\, 2016. For more information\, call (956) 969-2475 or visit&nbsp\;</span><a href="http://valleynaturecenter.org/" rel="nofollow nofollow" style="color: rgb(54\, 88\, 153)\; cursor: pointer\; text-decoration: none\; font-family: helvetica\, arial\, sans-serif\; font-size: 14px\; line-height: 18.76px\; background-color: rgb(255\, 255\, 255)\;" target="_blank">valleynaturecenter.org.</a><span style="color: rgb(75\, 79\, 86)\; font-family: helvetica\, arial\, sans-serif\; font-size: 14px\; line-height: 18.76px\; background-color: rgb(255\, 255\, 255)\;">&nbsp\;Admission to the Valley Nature Center is $2 fo</span><span class="text_exposed_show" style="display: inline\; color: rgb(75\, 79\, 86)\; font-family: helvetica\, arial\, sans-serif\; font-size: 14px\; line-height: 18.76px\; background-color: rgb(255\, 255\, 255)\;">r children\, $5 for adults\, and $3 for seniors.&nbsp\;<br />\n<br />\nThe Weslaco Lions Club is sponsoring the StoryWalk&trade\; project as part of their year-long Reading Action Program committed to increasing child literacy. The Weslaco Lions Club meets every Tuesday at noon at Pimiento&rsquo\;s Restaurant in Weslaco. If you are interested in assisting with the project or in becoming a member\, please contact weslacolions@gmail.com.&nbsp\;<br />\n<br />\nThe StoryWalk&trade\; Project was created by Anne Ferguson of Montpelier\, VT and developed in collaboration with the Vermont Bicycle &amp\; Pedestrian Coalition (VBPC) and the Kellogg Hubbard Library.</span>
LOCATION:Valley Nature Center 301 S. Border
UID:e.1244.11008
SEQUENCE:3
DTSTAMP:20260422T165119Z
URL:https://business.weslaco.com/events/details/valley-nature-center-and-weslaco-lions-club-story-walk-11008
END:VEVENT

END:VCALENDAR
