BEGIN:VCALENDAR
VERSION:2.0
PRODID:-//ChamberMaster//Event Calendar 2.0//EN
METHOD:PUBLISH
X-PUBLISHED-TTL:P3D
REFRESH-INTERVAL:P3D
CALSCALE:GREGORIAN
BEGIN:VEVENT
DTSTART:20220606T140000Z
DTEND:20220610T200000Z
X-MICROSOFT-CDO-ALLDAYEVENT:FALSE
SUMMARY:Valley Nature Center Camp (5-7 year olds)
DESCRIPTION:
X-ALT-DESC;FMTTYPE=text/html:
LOCATION:
UID:e.1244.20802
SEQUENCE:3
DTSTAMP:20260421T134820Z
URL:https://business.weslaco.com/events/details/valley-nature-center-camp-5-7-year-olds-20802
END:VEVENT

END:VCALENDAR
