BEGIN:VCALENDAR
VERSION:2.0
PRODID:-//ChamberMaster//Event Calendar 2.0//EN
METHOD:PUBLISH
X-PUBLISHED-TTL:P3D
REFRESH-INTERVAL:P3D
CALSCALE:GREGORIAN
BEGIN:VEVENT
DTSTART:20220613T140000Z
DTEND:20220617T200000Z
X-MICROSOFT-CDO-ALLDAYEVENT:FALSE
SUMMARY:Valley Nature Center Camp (8-9 years old)
DESCRIPTION:
X-ALT-DESC;FMTTYPE=text/html:
LOCATION:
UID:e.1244.20803
SEQUENCE:3
DTSTAMP:20260421T135000Z
URL:https://business.weslaco.com/events/details/valley-nature-center-camp-8-9-years-old-20803
END:VEVENT

END:VCALENDAR
