BEGIN:VCALENDAR
VERSION:2.0
PRODID:-//ChamberMaster//Event Calendar 2.0//EN
METHOD:PUBLISH
X-PUBLISHED-TTL:P3D
REFRESH-INTERVAL:P3D
CALSCALE:GREGORIAN
BEGIN:VEVENT
DTSTART:20220627T140000Z
DTEND:20220701T200000Z
X-MICROSOFT-CDO-ALLDAYEVENT:FALSE
SUMMARY:Valley Nature Center Camp: Ages 5-7 years old
DESCRIPTION:
X-ALT-DESC;FMTTYPE=text/html:
LOCATION:
UID:e.1244.20805
SEQUENCE:3
DTSTAMP:20260421T121459Z
URL:https://business.weslaco.com/events/details/valley-nature-center-camp-ages-5-7-years-old-20805
END:VEVENT

END:VCALENDAR
