BEGIN:VCALENDAR
VERSION:2.0
PRODID:-//ChamberMaster//Event Calendar 2.0//EN
METHOD:PUBLISH
X-PUBLISHED-TTL:P3D
REFRESH-INTERVAL:P3D
CALSCALE:GREGORIAN
BEGIN:VEVENT
DTSTART:20161030T020000Z
DTEND:20161030T045500Z
X-MICROSOFT-CDO-ALLDAYEVENT:FALSE
SUMMARY:Valley Nature Center Haunted Trails of Terror
DESCRIPTION:From 9 pm to 12 am come if you dare the only thing we promise is lots and lots of scares!\n\n\n\nNo one under 11 will be allowed.
X-ALT-DESC;FMTTYPE=text/html:From 9&nbsp\;pm&nbsp\;to 12 am come if you dare the only thing we promise is lots and lots of scares!<br />\n<br />\nNo one under 11 will be allowed.<br />\n&nbsp\;
LOCATION:301 South Border Ave Weslaco TX 78596
UID:e.1244.11036
SEQUENCE:3
DTSTAMP:20260422T151533Z
URL:https://business.weslaco.com/events/details/valley-nature-center-haunted-trails-of-terror-11036
END:VEVENT

END:VCALENDAR
