BEGIN:VCALENDAR
VERSION:2.0
PRODID:-//ChamberMaster//Event Calendar 2.0//EN
METHOD:PUBLISH
X-PUBLISHED-TTL:P3D
REFRESH-INTERVAL:P3D
CALSCALE:GREGORIAN
BEGIN:VEVENT
DTSTART:20180421T173000Z
DTEND:20180421T183000Z
X-MICROSOFT-CDO-ALLDAYEVENT:FALSE
SUMMARY:Valley Nature Center Lecture: Texas Rare Fruit Growers by Dr. Ben Villalon
DESCRIPTION:Dr. Ben Villalon aka "Dr. Pepper" presents "Development of superior pepper varieties for the Rio Grande Valley."
X-ALT-DESC;FMTTYPE=text/html:Dr. Ben Villalon aka &quot\;Dr. Pepper&quot\; presents &quot\;Development of superior pepper varieties for the Rio Grande Valley.&quot\;
LOCATION:Valley Nature Center 301 S. Border Ave.
UID:e.1244.16866
SEQUENCE:3
DTSTAMP:20260421T110625Z
URL:https://business.weslaco.com/events/details/valley-nature-center-lecture-texas-rare-fruit-growers-by-dr-ben-villalon-16866
END:VEVENT

END:VCALENDAR
