BEGIN:VCALENDAR
VERSION:2.0
PRODID:-//ChamberMaster//Event Calendar 2.0//EN
METHOD:PUBLISH
X-PUBLISHED-TTL:P3D
REFRESH-INTERVAL:P3D
CALSCALE:GREGORIAN
BEGIN:VEVENT
DTSTART:20160327T190000Z
DTEND:20160327T200000Z
X-MICROSOFT-CDO-ALLDAYEVENT:FALSE
SUMMARY:Valley Nature Center's Easter Egg Hunt
DESCRIPTION:Nature center trails will be filled with colorful Easter eggs\, some of them "Golden". Lots of goodies for all! Valley Nature Center's trails are wheelchair and scooter friendly. Bring your camera\, Bring a friend\, Make a memory.
X-ALT-DESC;FMTTYPE=text/html:Nature center trails will be filled with colorful Easter eggs\, some of them &quot\;Golden&quot\;. Lots of goodies for all! Valley Nature Center&#39\;s trails are wheelchair and scooter friendly. Bring your camera\, Bring a friend\, Make a memory.
LOCATION:Valley Nature Center 301 South Border Ave.
UID:e.1244.9119
SEQUENCE:3
DTSTAMP:20260423T035448Z
URL:https://business.weslaco.com/events/details/valley-nature-center-s-easter-egg-hunt-03-27-2016-9119
END:VEVENT

END:VCALENDAR
