BEGIN:VCALENDAR
VERSION:2.0
PRODID:-//ChamberMaster//Event Calendar 2.0//EN
METHOD:PUBLISH
X-PUBLISHED-TTL:P3D
REFRESH-INTERVAL:P3D
CALSCALE:GREGORIAN
BEGIN:VEVENT
DTSTART:20170423T000000Z
DTEND:20170423T030000Z
X-MICROSOFT-CDO-ALLDAYEVENT:FALSE
SUMMARY:Valley Nature Center's Spring Feast
DESCRIPTION:Valley Nature Center's 3rd Annual Spring Feast - enjoy a 5 course meal\, beer and wine pairings\, live music and live auction.
X-ALT-DESC;FMTTYPE=text/html:Valley Nature Center&#39\;s 3rd Annual Spring Feast - enjoy a 5 course meal\, beer and wine pairings\, live music and live auction.&nbsp\;
LOCATION:Valley Nature Center 301 S. Border
UID:e.1244.11523
SEQUENCE:3
DTSTAMP:20260422T052012Z
URL:https://business.weslaco.com/events/details/valley-nature-center-s-spring-feast-11523
END:VEVENT

END:VCALENDAR
