BEGIN:VCALENDAR
VERSION:2.0
PRODID:-//ChamberMaster//Event Calendar 2.0//EN
METHOD:PUBLISH
X-PUBLISHED-TTL:P3D
REFRESH-INTERVAL:P3D
CALSCALE:GREGORIAN
BEGIN:VEVENT
DTSTART:20140111T160000Z
DTEND:20140111T180000Z
X-MICROSOFT-CDO-ALLDAYEVENT:FALSE
SUMMARY:Valley Nature Center Speaker Series
DESCRIPTION:Valley Nature Center presents Dr. Debby Villalon\, discussing all of the nature sites the RGV has to offer.
X-ALT-DESC;FMTTYPE=text/html:Valley Nature Center presents Dr. Debby Villalon\, discussing all of the nature sites the RGV has to offer.
LOCATION:301 S. Border
UID:e.1244.5062
SEQUENCE:3
DTSTAMP:20260424T213728Z
URL:https://business.weslaco.com/events/details/valley-nature-center-speaker-series-01-11-2014-5062
END:VEVENT

END:VCALENDAR
