BEGIN:VCALENDAR
VERSION:2.0
PRODID:-//ChamberMaster//Event Calendar 2.0//EN
METHOD:PUBLISH
X-PUBLISHED-TTL:P3D
REFRESH-INTERVAL:P3D
CALSCALE:GREGORIAN
BEGIN:VEVENT
DTSTART:20140118T160000Z
DTEND:20140118T180000Z
X-MICROSOFT-CDO-ALLDAYEVENT:FALSE
SUMMARY:Valley Nature Center Speaker Series
DESCRIPTION:Valley Nature Center presents Sue Thaxter\, who will demonstrate how to make homemade herbal lotions\, bath salts and fizzies.  Space is limited so RSVP must be made.
X-ALT-DESC;FMTTYPE=text/html:Valley Nature Center presents Sue Thaxter\, who will demonstrate how to make homemade herbal lotions\, bath salts and fizzies. &nbsp\;Space is limited so RSVP must be made.
LOCATION:301 S. Border Weslaco\, TX
UID:e.1244.5063
SEQUENCE:3
DTSTAMP:20260424T212430Z
URL:https://business.weslaco.com/events/details/valley-nature-center-speaker-series-01-18-2014-5063
END:VEVENT

END:VCALENDAR
