BEGIN:VCALENDAR
VERSION:2.0
PRODID:-//ChamberMaster//Event Calendar 2.0//EN
METHOD:PUBLISH
X-PUBLISHED-TTL:P3D
REFRESH-INTERVAL:P3D
CALSCALE:GREGORIAN
BEGIN:VEVENT
DTSTART:20141115T160000Z
DTEND:20141115T170000Z
X-MICROSOFT-CDO-ALLDAYEVENT:FALSE
SUMMARY:Valley Nature Center Speaker Series
DESCRIPTION:Valley Nature Center presents Jennifer Ortega\, a Certified Professional Life Coach\, discussing her philosophy that anyone that can live an abundant life filled with peace\, prosperity and well being.
X-ALT-DESC;FMTTYPE=text/html:Valley Nature Center presents Jennifer Ortega\, a Certified Professional Life Coach\, discussing her philosophy that anyone that can live an abundant life filled with peace\, prosperity and well being.&nbsp\;
LOCATION:301 S. Border
UID:e.1244.5983
SEQUENCE:3
DTSTAMP:20260424T051450Z
URL:https://business.weslaco.com/events/details/valley-nature-center-speaker-series-11-15-2014-5983
END:VEVENT

END:VCALENDAR
