BEGIN:VCALENDAR
VERSION:2.0
PRODID:-//ChamberMaster//Event Calendar 2.0//EN
METHOD:PUBLISH
X-PUBLISHED-TTL:P3D
REFRESH-INTERVAL:P3D
CALSCALE:GREGORIAN
BEGIN:VEVENT
DTSTART:20151205T160000Z
DTEND:20151205T170000Z
X-MICROSOFT-CDO-ALLDAYEVENT:FALSE
SUMMARY:Valley Nature Center Speaker Series
DESCRIPTION:Dr. Rod Summy and Maria Mejia will discuss how plants\, specifically Black Mangroves\, can help as a natural defense to erosion.  Coffee and pastries will be served.  10 am\, 301 S. Border.
X-ALT-DESC;FMTTYPE=text/html:<span style="font-family: 'Trebuchet MS'\, Verdana\, Helvetica\, sans-serif\; font-size: 13.3333px\; line-height: normal\;">Dr. Rod Summy and Maria Mejia will discuss how plants\, specifically Black Mangroves\, can help as a natural defense to erosion.&nbsp\; Coffee and pastries will be served. &nbsp\;10 am\, 301 S. Border. &nbsp\;</span>
LOCATION:301 S. Border
UID:e.1244.9063
SEQUENCE:3
DTSTAMP:20260423T065956Z
URL:https://business.weslaco.com/events/details/valley-nature-center-speaker-series-12-05-2015-9063
END:VEVENT

END:VCALENDAR
