BEGIN:VCALENDAR
VERSION:2.0
PRODID:-//ChamberMaster//Event Calendar 2.0//EN
METHOD:PUBLISH
X-PUBLISHED-TTL:P3D
REFRESH-INTERVAL:P3D
CALSCALE:GREGORIAN
BEGIN:VEVENT
DTSTART:20190112T160000Z
DTEND:20190112T170000Z
X-MICROSOFT-CDO-ALLDAYEVENT:FALSE
SUMMARY:Valley Nature Center Speaker Series
DESCRIPTION:Fish of the Rio Grande Valley\, presented by Tony Reisinger. Coffee and pastries will be served.  10 am\, 301 S. Border.
X-ALT-DESC;FMTTYPE=text/html:<span style="font-family: 'Trebuchet MS'\, Verdana\, Helvetica\, sans-serif\; font-size: 13.3333px\; line-height: normal\;">Fish of the Rio Grande Valley\, presented by Tony Reisinger. Coffee and pastries will be served. &nbsp\;10 am\, 301 S. Border. &nbsp\;</span>
LOCATION:301 S. Border
UID:e.1244.17075
SEQUENCE:3
DTSTAMP:20260420T194444Z
URL:https://business.weslaco.com/events/details/valley-nature-center-speaker-series-17075
END:VEVENT

END:VCALENDAR
