BEGIN:VCALENDAR
VERSION:2.0
PRODID:-//ChamberMaster//Event Calendar 2.0//EN
METHOD:PUBLISH
X-PUBLISHED-TTL:P3D
REFRESH-INTERVAL:P3D
CALSCALE:GREGORIAN
BEGIN:VEVENT
DTSTART:20160902T223000Z
DTEND:20160903T003000Z
X-MICROSOFT-CDO-ALLDAYEVENT:FALSE
SUMMARY:Very Cool Garage PRE Sale
DESCRIPTION:Weslaco's First United Methodist Church is hosting a VERY COOL garage sale on Saturday\, Sept. 3.  Get a sneak peek at all the great finds on Friday evening at the special pre-sale. $5 per family.
X-ALT-DESC;FMTTYPE=text/html:Weslaco&#39\;s First United Methodist Church is hosting a VERY COOL garage sale on Saturday\, Sept. 3. &nbsp\;Get a sneak peek at all the great finds on Friday evening at the special pre-sale. $5 per family.
LOCATION:520 S. Illinois
UID:e.1244.11005
SEQUENCE:3
DTSTAMP:20260422T164420Z
URL:https://business.weslaco.com/events/details/very-cool-garage-pre-sale-11005
END:VEVENT

END:VCALENDAR
