BEGIN:VCALENDAR
VERSION:2.0
PRODID:-//ChamberMaster//Event Calendar 2.0//EN
METHOD:PUBLISH
X-PUBLISHED-TTL:P3D
REFRESH-INTERVAL:P3D
CALSCALE:GREGORIAN
BEGIN:VEVENT
DTSTART:20160903T140000Z
DTEND:20160903T180000Z
X-MICROSOFT-CDO-ALLDAYEVENT:FALSE
SUMMARY:Very Cool Garage Sale
DESCRIPTION:Proceeds from the sale will go towards the First United Methodist Ministry Center! Admission is free on Saturday.  Enjoy the concession stand! Sales are a cash only basis.
X-ALT-DESC;FMTTYPE=text/html:Proceeds from the sale will go towards the First United Methodist Ministry Center! Admission is free on Saturday. &nbsp\;Enjoy the concession stand! Sales are a cash only basis.
LOCATION:Weslaco First United Methodist Church 520 S. Illinois
UID:e.1244.11006
SEQUENCE:3
DTSTAMP:20260422T165946Z
URL:https://business.weslaco.com/events/details/very-cool-garage-sale-11006
END:VEVENT

END:VCALENDAR
