BEGIN:VCALENDAR
VERSION:2.0
PRODID:-//ChamberMaster//Event Calendar 2.0//EN
METHOD:PUBLISH
X-PUBLISHED-TTL:P3D
REFRESH-INTERVAL:P3D
CALSCALE:GREGORIAN
BEGIN:VEVENT
DTSTART:20140420T160000Z
DTEND:20140420T190000Z
X-MICROSOFT-CDO-ALLDAYEVENT:FALSE
SUMMARY:Victoria Palms Easter Luncheon
DESCRIPTION:Don't worry about cooking on Easter Sunday! Enjoy an all-you-can-eat buffet at Victoria Palms featuring Roast Beef\, Coconut Chicken\, Stuffed Bass and an assortment of sides and desserts.
X-ALT-DESC;FMTTYPE=text/html:Don&#39\;t worry about cooking on Easter Sunday! Enjoy an all-you-can-eat buffet at Victoria Palms featuring Roast Beef\, Coconut Chicken\, Stuffed Bass and an assortment of sides and desserts. &nbsp\;
LOCATION:Victoria Palms 602 N. Victoria Rd. Donna\, TX
UID:e.1244.5893
SEQUENCE:3
DTSTAMP:20260424T155033Z
URL:https://business.weslaco.com/events/details/victoria-palms-easter-luncheon-04-20-2014-5893
END:VEVENT

END:VCALENDAR
