BEGIN:VCALENDAR
VERSION:2.0
PRODID:-//ChamberMaster//Event Calendar 2.0//EN
METHOD:PUBLISH
X-PUBLISHED-TTL:P3D
REFRESH-INTERVAL:P3D
CALSCALE:GREGORIAN
BEGIN:VEVENT
DTSTART:20190524T213000Z
DTEND:20190525T000000Z
X-MICROSOFT-CDO-ALLDAYEVENT:FALSE
SUMMARY:Victoria Palms Memorial Day Fish Fry
DESCRIPTION:Hotel guests\, seniors and Veterans get 10% off!
X-ALT-DESC;FMTTYPE=text/html:Hotel guests\, seniors and Veterans get 10% off!
LOCATION:Victoria Palms Restaurant 602 N. Victoria Rd. Donna\, Tx
UID:e.1244.18187
SEQUENCE:3
DTSTAMP:20260420T113845Z
URL:https://business.weslaco.com/events/details/victoria-palms-memorial-day-fish-fry-18187
END:VEVENT

END:VCALENDAR
