BEGIN:VCALENDAR
VERSION:2.0
PRODID:-//ChamberMaster//Event Calendar 2.0//EN
METHOD:PUBLISH
X-PUBLISHED-TTL:P3D
REFRESH-INTERVAL:P3D
CALSCALE:GREGORIAN
BEGIN:VEVENT
DTSTART:20170614T210000Z
DTEND:20170614T220000Z
X-MICROSOFT-CDO-ALLDAYEVENT:FALSE
SUMMARY:Villa Escondida Open House
DESCRIPTION:Recently opened town homes available for viewing. Gated complex that features pool & hot tub area\, private patios and pet friendliness.
X-ALT-DESC;FMTTYPE=text/html:<span class="_4n-j _fbReactionComponent__eventDetailsContentTags fsl" data-testid="event-permalink-details"><span class="_4n-j _3cht fsl" data-testid="event-permalink-details"><span class="_4n-j _fbReactionComponent__eventDetailsContentTags fsl" data-testid="event-permalink-details"><span class="text_exposed_show">Recently opened town homes available for viewing. Gated complex that features pool &amp\; hot tub area\, private patios and pet friendliness.&nbsp\; </span></span></span></span>
LOCATION:318 E. 18th Street\, Weslaco
UID:e.1244.12738
SEQUENCE:3
DTSTAMP:20260422T013545Z
URL:https://business.weslaco.com/events/details/villa-escondida-open-house-06-14-2017-12738
END:VEVENT

END:VCALENDAR
