BEGIN:VCALENDAR
VERSION:2.0
PRODID:-//ChamberMaster//Event Calendar 2.0//EN
METHOD:PUBLISH
X-PUBLISHED-TTL:P3D
REFRESH-INTERVAL:P3D
CALSCALE:GREGORIAN
BEGIN:VEVENT
DTSTART:20200430T223000Z
DTEND:20200430T233000Z
X-MICROSOFT-CDO-ALLDAYEVENT:FALSE
SUMMARY:Virtual Business After Hours
DESCRIPTION:Join us on a Zoom chat as we connect...don't forget your beverage of choice! Enjoy some down time and online networking.\n\n\n\n*This Zoom call will be streamed on FB live as well.
X-ALT-DESC;FMTTYPE=text/html:<span style="color: rgb(29\, 33\, 41)\; font-family: Helvetica\, Arial\, sans-serif\; font-size: 14px\; white-space: pre-wrap\;">Join us on a Zoom chat as we connect...don&#39\;t forget your beverage of choice! Enjoy some down time and online networking.</span><br style="color: rgb(29\, 33\, 41)\; font-family: Helvetica\, Arial\, sans-serif\; font-size: 14px\; white-space: pre-wrap\;" />\n<br style="color: rgb(29\, 33\, 41)\; font-family: Helvetica\, Arial\, sans-serif\; font-size: 14px\; white-space: pre-wrap\;" />\n<span style="color: rgb(29\, 33\, 41)\; font-family: Helvetica\, Arial\, sans-serif\; font-size: 14px\; white-space: pre-wrap\;">*This Zoom call will be streamed on FB live as well. </span>
LOCATION:https://us02web.zoom.us/j/81241651469?pwd=T1ByRTdKVllKc3phRlFiNno4U3VtQT09
UID:e.1244.19362
SEQUENCE:3
DTSTAMP:20260419T170655Z
URL:https://business.weslaco.com/events/details/virtual-business-after-hours-19362
END:VEVENT

END:VCALENDAR
