BEGIN:VCALENDAR
VERSION:2.0
PRODID:-//ChamberMaster//Event Calendar 2.0//EN
METHOD:PUBLISH
X-PUBLISHED-TTL:P3D
REFRESH-INTERVAL:P3D
CALSCALE:GREGORIAN
BEGIN:VEVENT
DTSTART:20200406T143000Z
DTEND:20200406T160000Z
X-MICROSOFT-CDO-ALLDAYEVENT:FALSE
SUMMARY:Virtual Business Forum
DESCRIPTION:Join us on Zoom for a conference call with Elizabeth Vargas\, U.S. SBA\, as we discuss the EIDL program.\n\n\n\nRegister here: https://zoom.us/meeting/register/u5UrdeuhrTIv0-04-P0rdnhIm40Bym89dA
X-ALT-DESC;FMTTYPE=text/html:<span style="color: rgb(29\, 33\, 41)\; font-family: Helvetica\, Arial\, sans-serif\; font-size: 14px\; white-space: pre-wrap\;">Join us on Zoom for a conference call with Elizabeth Vargas\, U.S. SBA\, as we discuss the EIDL program.</span><br style="color: rgb(29\, 33\, 41)\; font-family: Helvetica\, Arial\, sans-serif\; font-size: 14px\; white-space: pre-wrap\;" />\n<br style="color: rgb(29\, 33\, 41)\; font-family: Helvetica\, Arial\, sans-serif\; font-size: 14px\; white-space: pre-wrap\;" />\n<span style="color: rgb(29\, 33\, 41)\; font-family: Helvetica\, Arial\, sans-serif\; font-size: 14px\; white-space: pre-wrap\;">Register here: </span><a data-lynx-mode="hover" data-lynx-uri="https://l.facebook.com/l.php?u=https%3A%2F%2Fzoom.us%2Fmeeting%2Fregister%2Fu5UrdeuhrTIv0-04-P0rdnhIm40Bym89dA%3Ffbclid%3DIwAR2REohrB--cQU5mIEC44Z67PDd0ujANllO57b4c2EItRqfG8ozVdvWVT7g&amp\;h=AT0-rxkgtcY5ZaJnIwGVQNGrqJs_62KnIBW55HUJJzV0k9pDsxhXJxMEnvSPpiA6knYhZzZ0w2poZRd4QOK7bQA_v2IFCf_9ZSeIK4c8pR66AHHRMXce1nRWCo1MlD0nQg" href="https://zoom.us/meeting/register/u5UrdeuhrTIv0-04-P0rdnhIm40Bym89dA?fbclid=IwAR2REohrB--cQU5mIEC44Z67PDd0ujANllO57b4c2EItRqfG8ozVdvWVT7g" rel="nofollow noopener" style="color: rgb(56\, 88\, 152)\; cursor: pointer\; text-decoration-line: none\; font-family: Helvetica\, Arial\, sans-serif\; font-size: 14px\; white-space: pre-wrap\;" target="_blank">https://zoom.us/meeting/register/u5UrdeuhrTIv0-04-P0rdnhIm40Bym89dA</a><span style="color: rgb(29\, 33\, 41)\; font-family: Helvetica\, Arial\, sans-serif\; font-size: 14px\; white-space: pre-wrap\;"> </span>
LOCATION:
UID:e.1244.19350
SEQUENCE:3
DTSTAMP:20260419T170657Z
URL:https://business.weslaco.com/events/details/virtual-business-forum-19350
END:VEVENT

END:VCALENDAR
