BEGIN:VCALENDAR
VERSION:2.0
PRODID:-//ChamberMaster//Event Calendar 2.0//EN
METHOD:PUBLISH
X-PUBLISHED-TTL:P3D
REFRESH-INTERVAL:P3D
CALSCALE:GREGORIAN
BEGIN:VEVENT
DTSTART:20200529T150000Z
DTEND:20200529T160000Z
X-MICROSOFT-CDO-ALLDAYEVENT:FALSE
SUMMARY:Virtual Business Forum: Federal Stimulus Actions to Help Small Business Weather the Coronavirus Pandemic
DESCRIPTION:Join us for a very special Virtual Business Forum featuring Thomas Sullivan\, VP for Small Business Policy\, U.S. Chamber of Commerce.  You don't want to miss this one!\nThomas Sullivan\, \n\nU.S. Chamber of Commerce\, Vice President for \n\nSmall Business Policy\n\nThomas Sullivan\, \n\nU.S. Chamber of Commerce\, Vice President for \n\nSmall Business Policy
X-ALT-DESC;FMTTYPE=text/html:Join us for a very special Virtual Business Forum featuring Thomas Sullivan\, VP for Small Business Policy\, U.S. Chamber of Commerce.&nbsp\; You don&#39\;t want to miss this one!\n<p class="_04xlpA direction-ltr align-center para-style-body" style="line-height: 1.4\; font-family: &quot\;YACgEVg3xZg 0&quot\;\, _fb_\, auto\; font-size: 17.913px\; color: rgb(255\, 255\, 255)\;"><span class="JsGRdQ" style="font-weight: 700\; font-style: italic\;">Thomas Sullivan\,</span><span class="JsGRdQ white-space-prewrap" style="font-weight: 700\; font-style: italic\;"> </span></p>\n\n<p class="_04xlpA direction-ltr align-center para-style-body" style="line-height: 1.4\; font-family: &quot\;YACgEVg3xZg 0&quot\;\, _fb_\, auto\; font-size: 17.913px\; color: rgb(255\, 255\, 255)\;"><span class="JsGRdQ" style="font-style: italic\;">U.S. Chamber of Commerce\, Vice President for</span><span class="JsGRdQ white-space-prewrap" style="font-style: italic\;"> </span></p>\n\n<p class="_04xlpA direction-ltr align-center para-style-body" style="line-height: 1.4\; font-family: &quot\;YACgEVg3xZg 0&quot\;\, _fb_\, auto\; font-size: 17.913px\; color: rgb(255\, 255\, 255)\;"><span class="JsGRdQ" style="font-style: italic\;">Small Business Policy</span></p>\n\n<p class="_04xlpA direction-ltr align-center para-style-body" style="line-height: 1.4\; font-family: &quot\;YACgEVg3xZg 0&quot\;\, _fb_\, auto\; font-size: 17.913px\; color: rgb(255\, 255\, 255)\;"><span class="JsGRdQ" style="font-weight: 700\; font-style: italic\;">Thomas Sullivan\,</span><span class="JsGRdQ white-space-prewrap" style="font-weight: 700\; font-style: italic\;"> </span></p>\n\n<p class="_04xlpA direction-ltr align-center para-style-body" style="line-height: 1.4\; font-family: &quot\;YACgEVg3xZg 0&quot\;\, _fb_\, auto\; font-size: 17.913px\; color: rgb(255\, 255\, 255)\;"><span class="JsGRdQ" style="font-style: italic\;">U.S. Chamber of Commerce\, Vice President for</span><span class="JsGRdQ white-space-prewrap" style="font-style: italic\;"> </span></p>\n\n<p class="_04xlpA direction-ltr align-center para-style-body" style="line-height: 1.4\; font-family: &quot\;YACgEVg3xZg 0&quot\;\, _fb_\, auto\; font-size: 17.913px\; color: rgb(255\, 255\, 255)\;"><span class="JsGRdQ" style="font-style: italic\;">Small Business Policy</span></p>\n
LOCATION:https://us02web.zoom.us/j/89195753392?pwd=UUNPdldUWGlSVG9ITC9hKzVVT0QxUT09
UID:e.1244.19372
SEQUENCE:3
DTSTAMP:20260419T154855Z
URL:https://business.weslaco.com/events/details/virtual-business-forum-federal-stimulus-actions-to-help-small-business-weather-the-coronavirus-pandemic-19372
END:VEVENT

END:VCALENDAR
