BEGIN:VCALENDAR
VERSION:2.0
PRODID:-//ChamberMaster//Event Calendar 2.0//EN
METHOD:PUBLISH
X-PUBLISHED-TTL:P3D
REFRESH-INTERVAL:P3D
CALSCALE:GREGORIAN
BEGIN:VEVENT
DTSTART:20200420T143000Z
DTEND:20200420T160000Z
X-MICROSOFT-CDO-ALLDAYEVENT:FALSE
SUMMARY:Virtual Business Forum: FFCRA Overview with Dr. Marco Garza
DESCRIPTION:Featured speaker: Dr. Marco Garza\n\nSession Overview\n\n  Family First Coronavirus Recovery Act Overview\n\no Leave Entitlements\n\no Calculating Leaves\n\no Employees returning from Leave\n\no Recording Keeping & Enforcement\n\n  South Texas Virtual Learning & Development Coalition (V-LEaD)
X-ALT-DESC;FMTTYPE=text/html:<span style="color: rgb(35\, 35\, 51)\; font-family: Lato\, Helvetica\, Arial\; font-size: 14px\;">Featured speaker: Dr. Marco Garza<br />\nSession Overview</span><br style="box-sizing: border-box\; color: rgb(35\, 35\, 51)\; font-family: Lato\, Helvetica\, Arial\; font-size: 14px\;" />\n<span style="color: rgb(35\, 35\, 51)\; font-family: Lato\, Helvetica\, Arial\; font-size: 14px\;">&bull\; Family First Coronavirus Recovery Act Overview</span><br style="box-sizing: border-box\; color: rgb(35\, 35\, 51)\; font-family: Lato\, Helvetica\, Arial\; font-size: 14px\;" />\n<span style="color: rgb(35\, 35\, 51)\; font-family: Lato\, Helvetica\, Arial\; font-size: 14px\;">o Leave Entitlements</span><br style="box-sizing: border-box\; color: rgb(35\, 35\, 51)\; font-family: Lato\, Helvetica\, Arial\; font-size: 14px\;" />\n<span style="color: rgb(35\, 35\, 51)\; font-family: Lato\, Helvetica\, Arial\; font-size: 14px\;">o Calculating Leaves</span><br style="box-sizing: border-box\; color: rgb(35\, 35\, 51)\; font-family: Lato\, Helvetica\, Arial\; font-size: 14px\;" />\n<span style="color: rgb(35\, 35\, 51)\; font-family: Lato\, Helvetica\, Arial\; font-size: 14px\;">o Employees returning from Leave</span><br style="box-sizing: border-box\; color: rgb(35\, 35\, 51)\; font-family: Lato\, Helvetica\, Arial\; font-size: 14px\;" />\n<span style="color: rgb(35\, 35\, 51)\; font-family: Lato\, Helvetica\, Arial\; font-size: 14px\;">o Recording Keeping &amp\; Enforcement</span><br style="box-sizing: border-box\; color: rgb(35\, 35\, 51)\; font-family: Lato\, Helvetica\, Arial\; font-size: 14px\;" />\n<span style="color: rgb(35\, 35\, 51)\; font-family: Lato\, Helvetica\, Arial\; font-size: 14px\;">&bull\; South Texas Virtual Learning &amp\; Development Coalition (V-LEaD)</span>
LOCATION:https://zoom.us/meeting/register/tJwsd-6qqjkqEtWiG7fo8KGnshh2PUKa90BJ
UID:e.1244.19354
SEQUENCE:3
DTSTAMP:20260419T170955Z
URL:https://business.weslaco.com/events/details/virtual-business-forum-ffcra-overview-with-dr-marco-garza-19354
END:VEVENT

END:VCALENDAR
