BEGIN:VCALENDAR
VERSION:2.0
PRODID:-//ChamberMaster//Event Calendar 2.0//EN
METHOD:PUBLISH
X-PUBLISHED-TTL:P3D
REFRESH-INTERVAL:P3D
CALSCALE:GREGORIAN
BEGIN:VEVENT
DTSTART:20200720T143000Z
DTEND:20200720T153000Z
X-MICROSOFT-CDO-ALLDAYEVENT:FALSE
SUMMARY:VIrtual Business Forum: Hurricane Preparation feat. Tim Smith
DESCRIPTION:Join us for a special Virtual Business Forum as we discuss hurricane preparation with KRGV Chief Meteorologist Tim Smith. \n\n\n\nRegister for the Zoom call here: https://us02web.zoom.us/j/85764494150?pwd=N0ZHd3BIWDFJMks3di9wUGJwQUJmQT09
X-ALT-DESC;FMTTYPE=text/html:<p>Join us for a special Virtual Business Forum as we discuss hurricane preparation with KRGV Chief Meteorologist Tim Smith.&nbsp\;<br />\n<br />\nRegister for the Zoom call here:&nbsp\;<span style="font-family:calibri\,sans-serif\;"><span style="font-size:11.0pt\;"><a href="https://us02web.zoom.us/j/85764494150?pwd=N0ZHd3BIWDFJMks3di9wUGJwQUJmQT09">https://us02web.zoom.us/j/85764494150?pwd=N0ZHd3BIWDFJMks3di9wUGJwQUJmQT09</a></span></span></p>\n
LOCATION:Zoom
UID:e.1244.19486
SEQUENCE:3
DTSTAMP:20260419T140214Z
URL:https://business.weslaco.com/events/details/virtual-business-forum-hurricane-preparation-feat-tim-smith-19486
END:VEVENT

END:VCALENDAR
