BEGIN:VCALENDAR
VERSION:2.0
PRODID:-//ChamberMaster//Event Calendar 2.0//EN
METHOD:PUBLISH
X-PUBLISHED-TTL:P3D
REFRESH-INTERVAL:P3D
CALSCALE:GREGORIAN
BEGIN:VEVENT
DTSTART:20200413T143000Z
DTEND:20200413T160000Z
X-MICROSOFT-CDO-ALLDAYEVENT:FALSE
SUMMARY:Virtual Business Forum: Resilience Strategies to Thrive in Uncertain Times
DESCRIPTION:Join us for our next Virtual Business Forum featuring guest speaker Jan Stanley. Jan is a consultant and facilitator that has helped develop leaders from the Fortune 500 to Silicon Valley\, the US Army\, NASA and Harvard Business School. \n\n\n\nTopic: Resilience Strategies to Thrive in Uncertain Times\n\nJan Stanley will offer a variety of proven strategies to face the many business challenges presented by COVID-19. Jan will discuss the fundamentals of resilience\, covering topics like:\n\n? What is resilience and how do I get it?\n\n? How does resilience apply to business\n\n? What are strategies that boost resilience\n\n? How can I help others who might be struggling?\n\n\n\nCLICK HERE TO REGISTER
X-ALT-DESC;FMTTYPE=text/html:<span style="color: rgb(29\, 33\, 41)\; font-family: Helvetica\, Arial\, sans-serif\; font-size: 14px\; white-space: pre-wrap\;">Join us for our next Virtual Business Forum featuring guest speaker Jan Stanley. Jan is a consultant and facilitator that has helped develop leaders from the Fortune 500 to Silicon Valley\, the US Army\, NASA and Harvard Business School. </span><br style="color: rgb(29\, 33\, 41)\; font-family: Helvetica\, Arial\, sans-serif\; font-size: 14px\; white-space: pre-wrap\;" />\n<br style="color: rgb(29\, 33\, 41)\; font-family: Helvetica\, Arial\, sans-serif\; font-size: 14px\; white-space: pre-wrap\;" />\n<span style="color: rgb(29\, 33\, 41)\; font-family: Helvetica\, Arial\, sans-serif\; font-size: 14px\; white-space: pre-wrap\;">Topic: Resilience Strategies to Thrive in Uncertain Times</span><br style="color: rgb(29\, 33\, 41)\; font-family: Helvetica\, Arial\, sans-serif\; font-size: 14px\; white-space: pre-wrap\;" />\n<span style="color: rgb(29\, 33\, 41)\; font-family: Helvetica\, Arial\, sans-serif\; font-size: 14px\; white-space: pre-wrap\;">Jan Stanley will offer a variety of proven strategies to face the many business challenges presented by COVID-19. Jan will discuss the fundamentals of resilience\, covering topics like:</span><br style="color: rgb(29\, 33\, 41)\; font-family: Helvetica\, Arial\, sans-serif\; font-size: 14px\; white-space: pre-wrap\;" />\n<span style="color: rgb(29\, 33\, 41)\; font-family: Helvetica\, Arial\, sans-serif\; font-size: 14px\; white-space: pre-wrap\;">? What is resilience and how do I get it?</span><br style="color: rgb(29\, 33\, 41)\; font-family: Helvetica\, Arial\, sans-serif\; font-size: 14px\; white-space: pre-wrap\;" />\n<span style="color: rgb(29\, 33\, 41)\; font-family: Helvetica\, Arial\, sans-serif\; font-size: 14px\; white-space: pre-wrap\;">? How does resilience apply to business</span><br style="color: rgb(29\, 33\, 41)\; font-family: Helvetica\, Arial\, sans-serif\; font-size: 14px\; white-space: pre-wrap\;" />\n<span style="color: rgb(29\, 33\, 41)\; font-family: Helvetica\, Arial\, sans-serif\; font-size: 14px\; white-space: pre-wrap\;">? What are strategies that boost resilience</span><br style="color: rgb(29\, 33\, 41)\; font-family: Helvetica\, Arial\, sans-serif\; font-size: 14px\; white-space: pre-wrap\;" />\n<span style="color: rgb(29\, 33\, 41)\; font-family: Helvetica\, Arial\, sans-serif\; font-size: 14px\; white-space: pre-wrap\;">? How can I help others who might be struggling?</span><br style="color: rgb(29\, 33\, 41)\; font-family: Helvetica\, Arial\, sans-serif\; font-size: 14px\; white-space: pre-wrap\;" />\n<br style="color: rgb(29\, 33\, 41)\; font-family: Helvetica\, Arial\, sans-serif\; font-size: 14px\; white-space: pre-wrap\;" />\n<a href="https://zoom.us/meeting/register/uZEtdO2rqjosNb7uZJkF6T9mWN7kbltopg"><span style="color: rgb(29\, 33\, 41)\; font-family: Helvetica\, Arial\, sans-serif\; font-size: 14px\; white-space: pre-wrap\;">CLICK HERE TO REGISTER</span></a>
LOCATION:https://zoom.us/meeting/register/uZEtdO2rqjosNb7uZJkF6T9mWN7kbltopg
UID:e.1244.19352
SEQUENCE:3
DTSTAMP:20260419T191005Z
URL:https://business.weslaco.com/events/details/virtual-business-forum-resilience-strategies-to-thrive-in-uncertain-times-19352
END:VEVENT

END:VCALENDAR
