BEGIN:VCALENDAR
VERSION:2.0
PRODID:-//ChamberMaster//Event Calendar 2.0//EN
METHOD:PUBLISH
X-PUBLISHED-TTL:P3D
REFRESH-INTERVAL:P3D
CALSCALE:GREGORIAN
BEGIN:VEVENT
DTSTART:20200323T143000Z
DTEND:20200323T153000Z
X-MICROSOFT-CDO-ALLDAYEVENT:FALSE
SUMMARY:Virtual Business Impact Forum: Conference Call-COVID-19
DESCRIPTION:The goal for this Virtual Business Impact Forum is to help our small business/local entities be updated on the ongoing work the City is doing to support the community.  Additionally\, we have sent out a Business impact survey where we have asked our business owners to share any questions they might have.\n\n\n\nRegister in advance for this meeting:\n\nhttps://zoom.us/meeting/register/tZwrf-uupzIoXr4BIt7BgO5tpQCJVvzCBQ
X-ALT-DESC;FMTTYPE=text/html:The goal for this Virtual Business Impact Forum is to help our small business/local entities be updated on the ongoing work the City is doing to support the community.&nbsp\; Additionally\, we have sent out a Business impact survey where we have asked our business owners to share any questions they might have.<br />\n<br />\nRegister in advance for this meeting:<br />\n<a href="https://zoom.us/meeting/register/tZwrf-uupzIoXr4BIt7BgO5tpQCJVvzCBQ">https://zoom.us/meeting/register/tZwrf-uupzIoXr4BIt7BgO5tpQCJVvzCBQ</a> &nbsp\;&nbsp\;<br />\n&nbsp\;
LOCATION:
UID:e.1244.19342
SEQUENCE:3
DTSTAMP:20260419T203019Z
URL:https://business.weslaco.com/events/details/virtual-business-impact-forum-conference-call-covid-19-19342
END:VEVENT

END:VCALENDAR
