BEGIN:VCALENDAR
VERSION:2.0
PRODID:-//ChamberMaster//Event Calendar 2.0//EN
METHOD:PUBLISH
X-PUBLISHED-TTL:P3D
REFRESH-INTERVAL:P3D
CALSCALE:GREGORIAN
BEGIN:VEVENT
DTSTART:20200408T150000Z
DTEND:20200409T040000Z
X-MICROSOFT-CDO-ALLDAYEVENT:FALSE
SUMMARY:Virtual Coffee Talk
DESCRIPTION:Join us for a virtual networking event where participants will get to connect and interact with each other. This will be a Zoom chat on FB Live\, so you must have video and audio capabilities. You will also need paper and pen/permanent market for an interactive activity. And of course...don't forget the coffee! (or whatever beverage you prefer...just make sure you bring it in a mug!)\n\nThank you to sponsor Hope Insurance Agency! Sponsorship money will go towards our Fuel the Frontline Fundraiser to provide meals to frontline employees in Weslaco.\n\nRegister here: https://zoom.us/meeting/register/tJcofuGtpjgt4uoM4uVAnr6L7jc_ab47aA
X-ALT-DESC;FMTTYPE=text/html:<span style="color: rgb(29\, 33\, 41)\; font-family: Helvetica\, Arial\, sans-serif\; font-size: 14px\; white-space: pre-wrap\;">Join us for a virtual networking event where participants will get to connect and interact with each other. This will be a Zoom chat on FB Live\, so you must have video and audio capabilities. You will also need paper and pen/permanent market for an interactive activity. And of course...don&#39\;t forget the coffee! (or whatever beverage you prefer...just make sure you bring it in a mug!)</span><br style="color: rgb(29\, 33\, 41)\; font-family: Helvetica\, Arial\, sans-serif\; font-size: 14px\; white-space: pre-wrap\;" />\n<span style="color: rgb(29\, 33\, 41)\; font-family: Helvetica\, Arial\, sans-serif\; font-size: 14px\; white-space: pre-wrap\;">Thank you to sponsor Hope Insurance Agency! Sponsorship money will go towards our Fuel the Frontline Fundraiser to provide meals to frontline employees in Weslaco.</span><br style="color: rgb(29\, 33\, 41)\; font-family: Helvetica\, Arial\, sans-serif\; font-size: 14px\; white-space: pre-wrap\;" />\n<span style="color: rgb(29\, 33\, 41)\; font-family: Helvetica\, Arial\, sans-serif\; font-size: 14px\; white-space: pre-wrap\;">Register here: </span><a data-lynx-mode="hover" data-lynx-uri="https://l.facebook.com/l.php?u=https%3A%2F%2Fzoom.us%2Fmeeting%2Fregister%2FtJcofuGtpjgt4uoM4uVAnr6L7jc_ab47aA%3Ffbclid%3DIwAR3ii3tuyiCzqp9rhQUGm2OyqvhOJQQWP2XdC8FYqeTAxyKy1_pmbbhVfQw&amp\;h=AT1hSrnjfFuIT9Vx1NKUzqce22jhe1DCHfiKxSeEGdqzviY5P6qqIm5yrvjGfOnMwa94-3uEMFQjmuR-azz2ZsKq2irA6t6UhuVISktTOGNrpQKq1WkIzYC5BbCH3XH8ug" href="https://zoom.us/meeting/register/tJcofuGtpjgt4uoM4uVAnr6L7jc_ab47aA?fbclid=IwAR3ii3tuyiCzqp9rhQUGm2OyqvhOJQQWP2XdC8FYqeTAxyKy1_pmbbhVfQw" rel="nofollow noopener" style="color: rgb(56\, 88\, 152)\; cursor: pointer\; text-decoration-line: none\; font-family: Helvetica\, Arial\, sans-serif\; font-size: 14px\; white-space: pre-wrap\;" target="_blank">https://zoom.us/meeting/register/tJcofuGtpjgt4uoM4uVAnr6L7jc_ab47aA</a>
LOCATION:https://zoom.us/meeting/register/tJcofuGtpjgt4uoM4uVAnr6L7jc_ab47aA
UID:e.1244.19349
SEQUENCE:3
DTSTAMP:20260419T165717Z
URL:https://business.weslaco.com/events/details/virtual-coffee-talk-19349
END:VEVENT

END:VCALENDAR
