BEGIN:VCALENDAR
VERSION:2.0
PRODID:-//ChamberMaster//Event Calendar 2.0//EN
METHOD:PUBLISH
X-PUBLISHED-TTL:P3D
REFRESH-INTERVAL:P3D
CALSCALE:GREGORIAN
BEGIN:VEVENT
DTSTART:20200422T150000Z
DTEND:20200423T040000Z
X-MICROSOFT-CDO-ALLDAYEVENT:FALSE
SUMMARY:Virtual Coffee Talk
DESCRIPTION:Join us for a virtual networking event where participants will get to connect and interact with each other. This will be a Zoom chat on FB Live\, so you must have video and audio capabilities. And of course...don't forget the coffee! (or whatever beverage you prefer...just make sure you bring it in a mug!)
X-ALT-DESC;FMTTYPE=text/html:<span style="color: rgb(29\, 33\, 41)\; font-family: Helvetica\, Arial\, sans-serif\; font-size: 14px\; white-space: pre-wrap\;">Join us for a virtual networking event where participants will get to connect and interact with each other. This will be a Zoom chat on FB Live\, so you must have video and audio capabilities. And of course...don&#39\;t forget the coffee! (or whatever beverage you prefer...just make sure you bring it in a mug!)</span><br style="color: rgb(29\, 33\, 41)\; font-family: Helvetica\, Arial\, sans-serif\; font-size: 14px\; white-space: pre-wrap\;" />\n&nbsp\;
LOCATION:https://zoom.us/meeting/register/tJEtde6qrDsuHtYACsy_B4NBP4LOsM1yGkZu
UID:e.1244.19355
SEQUENCE:3
DTSTAMP:20260419T184015Z
URL:https://business.weslaco.com/events/details/virtual-coffee-talk-19355
END:VEVENT

END:VCALENDAR
