BEGIN:VCALENDAR
VERSION:2.0
PRODID:-//ChamberMaster//Event Calendar 2.0//EN
METHOD:PUBLISH
X-PUBLISHED-TTL:P3D
REFRESH-INTERVAL:P3D
CALSCALE:GREGORIAN
BEGIN:VEVENT
DTSTART:20200715T160000Z
DTEND:20200715T170000Z
X-MICROSOFT-CDO-ALLDAYEVENT:FALSE
SUMMARY:Virtual Speed Networking Event sponsored by South Texas Federal Credit Union
DESCRIPTION:Join us for our regular speed networking event...virtually! This will be a timed event\, similar to our Speed Networking lunches. Don't miss this fun\, interactive way to engage with fellow members of the business community.\n\nMust register online\, Zoom link will be sent after you register.
X-ALT-DESC;FMTTYPE=text/html:<span class="JsGRdQ" style="color: rgb(84\, 84\, 84)\;">Join us for our regular speed networking event...virtually! This will be a timed event\, similar to our Speed Networking lunches. Don&#39\;t miss this fun\, interactive way to engage with fellow members of the business community.<br />\nMust register online\, Zoom link will be sent after you register.&nbsp\;</span>
LOCATION:Zoom
UID:e.1244.19478
SEQUENCE:3
DTSTAMP:20260419T125419Z
URL:https://business.weslaco.com/events/details/virtual-speed-networking-event-sponsored-by-south-texas-federal-credit-union-19478
END:VEVENT

END:VCALENDAR
