BEGIN:VCALENDAR
VERSION:2.0
PRODID:-//ChamberMaster//Event Calendar 2.0//EN
METHOD:PUBLISH
X-PUBLISHED-TTL:P3D
REFRESH-INTERVAL:P3D
CALSCALE:GREGORIAN
BEGIN:VEVENT
DTSTART:20160121T233000Z
DTEND:20160122T003000Z
X-MICROSOFT-CDO-ALLDAYEVENT:FALSE
SUMMARY:Vulture and Hawk Watch Presentation at Frontera Audubon
DESCRIPTION:A magnificent natural phenomenon of more than 200 Turkey Vultures descend on Frontera Audubon each evening during winter months to roost\, or take rest for the night. Raptor expert Bill Clark will discuss lesser-known facts about these and other birds of prey during the Vulture and Hawk Watch Presentation with Bill Clark.\n\n\n\nParticipants who wish to watch the vultures descend upon Frontera's Thicket are encouraged to arrive early\, by 4:30 p.m.\, and meet on the lawn behind the historic Skaggs House. Clark's presentation will begin at 5:30 p.m.
X-ALT-DESC;FMTTYPE=text/html:<span style="color: rgb(51\, 51\, 51)\; font-family: 'lucida grande'\, tahoma\, verdana\, arial\, sans-serif\; font-size: 13px\; line-height: 16px\;">A magnificent natural phenomenon of more than 200 Turkey Vultures descend on Frontera Audubon each evening during winter months to roost\, or take rest for the night. Raptor expert Bill Clark will discuss lesser-known facts about these and other birds of prey during the Vulture and Hawk Watch Presentation with Bill Clark.</span><br style="color: rgb(51\, 51\, 51)\; font-family: 'lucida grande'\, tahoma\, verdana\, arial\, sans-serif\; font-size: 13px\; line-height: 16px\;" />\n<br style="color: rgb(51\, 51\, 51)\; font-family: 'lucida grande'\, tahoma\, verdana\, arial\, sans-serif\; font-size: 13px\; line-height: 16px\;" />\n<span style="color: rgb(51\, 51\, 51)\; font-family: 'lucida grande'\, tahoma\, verdana\, arial\, sans-serif\; font-size: 13px\; line-height: 16px\;">Participants who wish to watch the vultures descend upon Frontera&#39\;s Thicket are encouraged to arrive early\, by&nbsp\;</span><span class="text_exposed_show" style="display: inline\; color: rgb(51\, 51\, 51)\; font-family: 'lucida grande'\, tahoma\, verdana\, arial\, sans-serif\; font-size: 13px\; line-height: 16px\;">4:30 p.m.\, and meet on the lawn behind the historic Skaggs House. Clark&#39\;s presentation will begin at 5:30 p.m.</span>
LOCATION:Frontera Audubon 1101 S. Texas Blvd.
UID:e.1244.9097
SEQUENCE:3
DTSTAMP:20260423T065507Z
URL:https://business.weslaco.com/events/details/vulture-and-hawk-watch-presentation-at-frontera-audubon-01-21-2016-9097
END:VEVENT

END:VCALENDAR
