BEGIN:VCALENDAR
VERSION:2.0
PRODID:-//ChamberMaster//Event Calendar 2.0//EN
METHOD:PUBLISH
X-PUBLISHED-TTL:P3D
REFRESH-INTERVAL:P3D
CALSCALE:GREGORIAN
BEGIN:VEVENT
DTSTART:20170512T210000Z
DTEND:20170513T000000Z
X-MICROSOFT-CDO-ALLDAYEVENT:FALSE
SUMMARY:Wal-Mart Supercenter 30th Anniversary Celebration
DESCRIPTION:
X-ALT-DESC;FMTTYPE=text/html:
LOCATION:Wal-Mart Supercenter 1310 N. Texas\, Weslaco
UID:e.1244.12145
SEQUENCE:3
DTSTAMP:20260422T032604Z
URL:https://business.weslaco.com/events/details/wal-mart-supercenter-30th-anniversary-celebration-12145
END:VEVENT

END:VCALENDAR
