BEGIN:VCALENDAR
VERSION:2.0
PRODID:-//ChamberMaster//Event Calendar 2.0//EN
METHOD:PUBLISH
X-PUBLISHED-TTL:P3D
REFRESH-INTERVAL:P3D
CALSCALE:GREGORIAN
BEGIN:VEVENT
DTSTART:20140827T123000Z
DTEND:20140827T133000Z
X-MICROSOFT-CDO-ALLDAYEVENT:FALSE
SUMMARY:Walmart Neighborhood Market Grand Opening and Ribbon Cutting
DESCRIPTION:
X-ALT-DESC;FMTTYPE=text/html:
LOCATION:1600 S. Texas Weslaco\, TX
UID:e.1244.5936
SEQUENCE:3
DTSTAMP:20260424T105037Z
URL:https://business.weslaco.com/events/details/walmart-neighborhood-market-grand-opening-and-ribbon-cutting-08-27-2014-5936
END:VEVENT

END:VCALENDAR
