BEGIN:VCALENDAR
VERSION:2.0
PRODID:-//ChamberMaster//Event Calendar 2.0//EN
METHOD:PUBLISH
X-PUBLISHED-TTL:P3D
REFRESH-INTERVAL:P3D
CALSCALE:GREGORIAN
BEGIN:VEVENT
DTSTART:20150429T123000Z
DTEND:20150429T140000Z
X-MICROSOFT-CDO-ALLDAYEVENT:FALSE
SUMMARY:Welcome Breakfast for City Manager Mike Perez
DESCRIPTION:Welcome Breakfast for City Manager Mike Perez
X-ALT-DESC;FMTTYPE=text/html:Welcome Breakfast for City Manager Mike Perez&nbsp\;&nbsp\;&nbsp\;&nbsp\;&nbsp\;&nbsp\;&nbsp\;
LOCATION:Weslaco Visitor Center 275 S. Kansas Ave. Weslaco\, TX 78596
UID:e.1244.6268
SEQUENCE:3
DTSTAMP:20260423T210402Z
URL:https://business.weslaco.com/events/details/welcome-breakfast-for-city-manager-mike-perez-04-29-2015-6268
END:VEVENT

END:VCALENDAR
