BEGIN:VCALENDAR
VERSION:2.0
PRODID:-//ChamberMaster//Event Calendar 2.0//EN
METHOD:PUBLISH
X-PUBLISHED-TTL:P3D
REFRESH-INTERVAL:P3D
CALSCALE:GREGORIAN
BEGIN:VEVENT
DTSTART:20151104T170000Z
DTEND:20151104T180000Z
X-MICROSOFT-CDO-ALLDAYEVENT:FALSE
SUMMARY:WellMed Ribbon Cutting and Grand Opening
DESCRIPTION:
X-ALT-DESC;FMTTYPE=text/html:
LOCATION:WellMed Clinic 1001 S. James St.
UID:e.1244.8751
SEQUENCE:3
DTSTAMP:20260423T084455Z
URL:https://business.weslaco.com/events/details/wellmed-ribbon-cutting-and-grand-opening-11-04-2015-8751
END:VEVENT

END:VCALENDAR
